BEGIN:VCALENDAR
VERSION:2.0
PRODID:-//Grant-Iowa Tavern League - ECPv6.15.20//NONSGML v1.0//EN
CALSCALE:GREGORIAN
METHOD:PUBLISH
X-WR-CALNAME:Grant-Iowa Tavern League
X-ORIGINAL-URL:https://swtavernleague.com
X-WR-CALDESC:Events for Grant-Iowa Tavern League
REFRESH-INTERVAL;VALUE=DURATION:PT1H
X-Robots-Tag:noindex
X-PUBLISHED-TTL:PT1H
BEGIN:VTIMEZONE
TZID:America/Chicago
BEGIN:DAYLIGHT
TZOFFSETFROM:-0600
TZOFFSETTO:-0500
TZNAME:CDT
DTSTART:20240310T080000
END:DAYLIGHT
BEGIN:STANDARD
TZOFFSETFROM:-0500
TZOFFSETTO:-0600
TZNAME:CST
DTSTART:20241103T070000
END:STANDARD
BEGIN:DAYLIGHT
TZOFFSETFROM:-0600
TZOFFSETTO:-0500
TZNAME:CDT
DTSTART:20250309T080000
END:DAYLIGHT
BEGIN:STANDARD
TZOFFSETFROM:-0500
TZOFFSETTO:-0600
TZNAME:CST
DTSTART:20251102T070000
END:STANDARD
BEGIN:DAYLIGHT
TZOFFSETFROM:-0600
TZOFFSETTO:-0500
TZNAME:CDT
DTSTART:20260308T080000
END:DAYLIGHT
BEGIN:STANDARD
TZOFFSETFROM:-0500
TZOFFSETTO:-0600
TZNAME:CST
DTSTART:20261101T070000
END:STANDARD
END:VTIMEZONE
BEGIN:VEVENT
DTSTART;TZID=America/Chicago:20250806T183000
DTEND;TZID=America/Chicago:20250806T203000
DTSTAMP:20260425T092345
CREATED:20250616T022135Z
LAST-MODIFIED:20250616T022304Z
UID:1301-1754505000-1754512200@swtavernleague.com
SUMMARY:Music in the Park + Market - Volunteer Park
DESCRIPTION:Music in the Park + Mississippi Market\nRachel Neal will be singing from 6:30-8:30 pm\nMusic Sponsored by Grant Regional Health \nFood will be provided by Beth & Don Minikel\, and all proceeds will go to RJ & Jamie Duvall.
URL:https://swtavernleague.com/event/music-in-the-park-market/
LOCATION:Cassville Riverside Park\, 100 E Crawford Street\, Cassville\, WI\, 53806\, United States
ATTACH;FMTTYPE=image/jpeg:https://swtavernleague.com/wp-content/uploads/2025/06/Aug6-e1750040463168.jpg
END:VEVENT
END:VCALENDAR