BEGIN:VCALENDAR
VERSION:2.0
PRODID:-//Grant-Iowa Tavern League - ECPv6.15.20//NONSGML v1.0//EN
CALSCALE:GREGORIAN
METHOD:PUBLISH
X-WR-CALNAME:Grant-Iowa Tavern League
X-ORIGINAL-URL:https://swtavernleague.com
X-WR-CALDESC:Events for Grant-Iowa Tavern League
REFRESH-INTERVAL;VALUE=DURATION:PT1H
X-Robots-Tag:noindex
X-PUBLISHED-TTL:PT1H
BEGIN:VTIMEZONE
TZID:America/Chicago
BEGIN:DAYLIGHT
TZOFFSETFROM:-0600
TZOFFSETTO:-0500
TZNAME:CDT
DTSTART:20240310T080000
END:DAYLIGHT
BEGIN:STANDARD
TZOFFSETFROM:-0500
TZOFFSETTO:-0600
TZNAME:CST
DTSTART:20241103T070000
END:STANDARD
BEGIN:DAYLIGHT
TZOFFSETFROM:-0600
TZOFFSETTO:-0500
TZNAME:CDT
DTSTART:20250309T080000
END:DAYLIGHT
BEGIN:STANDARD
TZOFFSETFROM:-0500
TZOFFSETTO:-0600
TZNAME:CST
DTSTART:20251102T070000
END:STANDARD
BEGIN:DAYLIGHT
TZOFFSETFROM:-0600
TZOFFSETTO:-0500
TZNAME:CDT
DTSTART:20260308T080000
END:DAYLIGHT
BEGIN:STANDARD
TZOFFSETFROM:-0500
TZOFFSETTO:-0600
TZNAME:CST
DTSTART:20261101T070000
END:STANDARD
END:VTIMEZONE
BEGIN:VEVENT
DTSTART;TZID=America/Chicago:20250828T080000
DTEND;TZID=America/Chicago:20250901T170000
DTSTAMP:20260425T092426
CREATED:20250717T014653Z
LAST-MODIFIED:20250717T015017Z
UID:1330-1756368000-1756746000@swtavernleague.com
SUMMARY:Iowa County Fair - Iowa County
DESCRIPTION:Join us for five big days of summer fun! We are your Labor Day weekend destination featuring demo derby\, dueling pianos\, bull riding\, tractor pulls\, harness racing and more! Full carnival and games await!\nBig fair experience with small town charm.\nSee you at the fair!!! \n$10 adults $5 kids
URL:https://swtavernleague.com/event/iowa-county-fair/
LOCATION:Iowa County Fairgrounds\, 900 Fair Street\, Mineral Point\, WI\, 53565\, United States
ATTACH;FMTTYPE=image/png:https://swtavernleague.com/wp-content/uploads/2025/07/IowaCountyFair2025-e1752716404978.png
END:VEVENT
END:VCALENDAR