BEGIN:VCALENDAR
VERSION:2.0
PRODID:-//Grant-Iowa Tavern League - ECPv6.15.20//NONSGML v1.0//EN
CALSCALE:GREGORIAN
METHOD:PUBLISH
X-WR-CALNAME:Grant-Iowa Tavern League
X-ORIGINAL-URL:https://swtavernleague.com
X-WR-CALDESC:Events for Grant-Iowa Tavern League
REFRESH-INTERVAL;VALUE=DURATION:PT1H
X-Robots-Tag:noindex
X-PUBLISHED-TTL:PT1H
BEGIN:VTIMEZONE
TZID:America/Chicago
BEGIN:DAYLIGHT
TZOFFSETFROM:-0600
TZOFFSETTO:-0500
TZNAME:CDT
DTSTART:20230312T080000
END:DAYLIGHT
BEGIN:STANDARD
TZOFFSETFROM:-0500
TZOFFSETTO:-0600
TZNAME:CST
DTSTART:20231105T070000
END:STANDARD
BEGIN:DAYLIGHT
TZOFFSETFROM:-0600
TZOFFSETTO:-0500
TZNAME:CDT
DTSTART:20240310T080000
END:DAYLIGHT
BEGIN:STANDARD
TZOFFSETFROM:-0500
TZOFFSETTO:-0600
TZNAME:CST
DTSTART:20241103T070000
END:STANDARD
BEGIN:DAYLIGHT
TZOFFSETFROM:-0600
TZOFFSETTO:-0500
TZNAME:CDT
DTSTART:20250309T080000
END:DAYLIGHT
BEGIN:STANDARD
TZOFFSETFROM:-0500
TZOFFSETTO:-0600
TZNAME:CST
DTSTART:20251102T070000
END:STANDARD
END:VTIMEZONE
BEGIN:VEVENT
DTSTART;TZID=America/Chicago:20240511T193000
DTEND;TZID=America/Chicago:20240511T223000
DTSTAMP:20260424T005732
CREATED:20240505T035613Z
LAST-MODIFIED:20240505T035613Z
UID:831-1715455800-1715466600@swtavernleague.com
SUMMARY:Gabe Schillman - Neighbors Ridgeway
DESCRIPTION:This will be the best “shop” party ever seen in Ridgeway at Neighbors bar(the old Wheel bar).\nWe would love to have you all come together to honor my Dad\, Tom “Shag” Scheidegger\, his life\, and his friendships with you all.
URL:https://swtavernleague.com/event/gabe-schillman-neighbors-ridgeway-2/
LOCATION:Neighbors Ridgeway\, 619 Main St\, Ridgeway\, WI\, 53582\, United States
ATTACH;FMTTYPE=image/jpeg:https://swtavernleague.com/wp-content/uploads/2023/11/Gabe-Schillman-e1701401878252.jpg
END:VEVENT
BEGIN:VEVENT
DTSTART;TZID=America/Chicago:20240511T163000
DTEND;TZID=America/Chicago:20240511T190000
DTSTAMP:20260424T005732
CREATED:20240424T021915Z
LAST-MODIFIED:20240424T022249Z
UID:813-1715445000-1715454000@swtavernleague.com
SUMMARY:Benton VFW Steak Feed - Benton VFW
DESCRIPTION:The monthly Benton VFW Steak Feed is held the 2nd Saturday of the month from March to November. We serve an 8oz steak cooked to your liking with a baked potato and side salad. Dine in or carry out!
URL:https://swtavernleague.com/event/benton-vfw-steak-feed-benton-vfw/
LOCATION:Benton VFW\, 82 E Main St\, Benton\, WI\, 53803\, United States
ATTACH;FMTTYPE=image/jpeg:https://swtavernleague.com/wp-content/uploads/2024/04/SteakFeed.jpg
END:VEVENT
BEGIN:VEVENT
DTSTART;TZID=America/Chicago:20240511T160000
DTEND;TZID=America/Chicago:20240511T190000
DTSTAMP:20260424T005732
CREATED:20240322T142336Z
LAST-MODIFIED:20240322T142336Z
UID:719-1715443200-1715454000@swtavernleague.com
SUMMARY:Johnnie Walker - Son Chasers Social Club
DESCRIPTION:
URL:https://swtavernleague.com/event/johnnie-walker-son-chasers-social-club-6/
LOCATION:Son Chasers Social Club\, 218 E. Amelia St\, Cassville\, WI\, 53806\, United States
ATTACH;FMTTYPE=image/png:https://swtavernleague.com/wp-content/uploads/2023/04/Johnnie-Walker.jpg.png
END:VEVENT
BEGIN:VEVENT
DTSTART;TZID=America/Chicago:20240510T200000
DTEND;TZID=America/Chicago:20240510T233000
DTSTAMP:20260424T005732
CREATED:20240417T011219Z
LAST-MODIFIED:20240417T011219Z
UID:792-1715371200-1715383800@swtavernleague.com
SUMMARY:Drew Halverson Music - The Mine Shaft
DESCRIPTION:
URL:https://swtavernleague.com/event/drew-halverson-music-the-mine-shaft/
LOCATION:The Mine Shaft\, 155 High St\, Mineral Point\, WI\, 53565\, United States
ATTACH;FMTTYPE=image/jpeg:https://swtavernleague.com/wp-content/uploads/2023/10/DrewHalverson2-e1696647462208.jpg
END:VEVENT
BEGIN:VEVENT
DTSTART;TZID=America/Chicago:20240504T200000
DTEND;TZID=America/Chicago:20240504T220000
DTSTAMP:20260424T005732
CREATED:20240313T021126Z
LAST-MODIFIED:20240313T021126Z
UID:666-1714852800-1714860000@swtavernleague.com
SUMMARY:13 Sins - The Mine Shaft
DESCRIPTION:
URL:https://swtavernleague.com/event/13-sins-the-mine-shaft-2/
LOCATION:The Mine Shaft\, 155 High St\, Mineral Point\, WI\, 53565\, United States
ATTACH;FMTTYPE=image/jpeg:https://swtavernleague.com/wp-content/uploads/2024/03/13-Sins-e1710295863441.jpg
END:VEVENT
BEGIN:VEVENT
DTSTART;TZID=America/Chicago:20240504T190000
DTEND;TZID=America/Chicago:20240504T230000
DTSTAMP:20260424T005732
CREATED:20240420T220502Z
LAST-MODIFIED:20240420T220502Z
UID:810-1714849200-1714863600@swtavernleague.com
SUMMARY:Honkers 17th Anniversary Party - Honkers Dining\, Lodging\, and Spirits
DESCRIPTION:💪17 Years and still going strong!💪\n🥳Join us on Saturday\, May 4th for our 17th annual Honkers Anniversary Party!🥳\n🎤🤩Backwoods Beats will be kicking the jams with Live Karaoke and all your favorite tunes\, starting at 7pm!!! 🤩🎤 \n🍺$2 Domestic Beers!🍺
URL:https://swtavernleague.com/event/honkers-17th-anniversary-party-honkers-dining-lodging-and-spirits/
LOCATION:Honkers of Muscoda\, 34055 Hwy 80\, Muscoda\, WI\, 53573\, United States
ATTACH;FMTTYPE=image/jpeg:https://swtavernleague.com/wp-content/uploads/2024/04/Honkers-e1713650569474.jpg
END:VEVENT
BEGIN:VEVENT
DTSTART;TZID=America/Chicago:20240504T150000
DTEND;TZID=America/Chicago:20240504T220000
DTSTAMP:20260424T005732
CREATED:20240309T015219Z
LAST-MODIFIED:20240309T015219Z
UID:645-1714834800-1714860000@swtavernleague.com
SUMMARY:Cassville Derby Days Cocktails & Clues - Cassville WI
DESCRIPTION:Pub Crawl: 3 pm-6 pm\nCheck-in at our tent on Frederick Street\nBeer Tent: 6 pm-10 pm\nStreet Dance: 7 pm-10 pm \nLIVE music by Triple Threat \nDeath at the Derby\nGather clues and solve a mystery along the pub crawl for your chance to win prizes! \nPub Crawl & Signature Cocktails\nTry a special cocktail from all our local pubs. Trophy for the pub with the crowd favorite! \nDerby Dress to Impress\nPrizes for: Hat-a-Tude\, Dapper Dan\, Too-hot-to-Trot\, & Best Dressed Derby Duo \nTickets: $25\nIncludes: 2 free drink tickets\, entry to the street dance\, Instructions to solve “Death at the Derby”\, a 2024 commemorative hat pin\, and a fun bag to hold all your goodies! \nPurchase at the Cassville Tourism office\, Hair by Holly\, Moon’s Town Pump\, online at https://allpaid.com/plc/a005ow or the day of the event*.\n*Tickets purchased the day of the event are not guaranteed a swag bag*
URL:https://swtavernleague.com/event/cassville-derby-days-cocktails-clues-cassville-wi/
LOCATION:Cassville\, 116 E. Amelia St HWY 133 Mississippi\, Great River Road\, Cassville\, WI\, 53806\, United States
ATTACH;FMTTYPE=image/jpeg:https://swtavernleague.com/wp-content/uploads/2024/03/DerbyDays.jpg
END:VEVENT
BEGIN:VEVENT
DTSTART;TZID=America/Chicago:20240504T150000
DTEND;TZID=America/Chicago:20240504T180000
DTSTAMP:20260424T005732
CREATED:20240322T142157Z
LAST-MODIFIED:20240322T142157Z
UID:717-1714834800-1714845600@swtavernleague.com
SUMMARY:2 Carls - Son Chasers Social Club
DESCRIPTION:
URL:https://swtavernleague.com/event/2-carls-son-chasers-social-club-4/
LOCATION:Son Chasers Social Club\, 218 E. Amelia St\, Cassville\, WI\, 53806\, United States
ATTACH;FMTTYPE=image/jpeg:https://swtavernleague.com/wp-content/uploads/2023/04/2-Carls.jpg
END:VEVENT
BEGIN:VEVENT
DTSTART;TZID=America/Chicago:20240428T130000
DTEND;TZID=America/Chicago:20240428T150000
DTSTAMP:20260424T005732
CREATED:20240417T011408Z
LAST-MODIFIED:20240417T011408Z
UID:794-1714309200-1714316400@swtavernleague.com
SUMMARY:Kevin Craft - The Mine Shaft
DESCRIPTION:Comedian Kevin Craft as seen on VH1\, Tyra Banks\, Last Comic Standing
URL:https://swtavernleague.com/event/kevin-craft-the-mine-shaft-2/
LOCATION:The Mine Shaft\, 155 High St\, Mineral Point\, WI\, 53565\, United States
ATTACH;FMTTYPE=image/jpeg:https://swtavernleague.com/wp-content/uploads/2024/03/Comedian-Kevin-Craft-e1710294815210.jpg
END:VEVENT
BEGIN:VEVENT
DTSTART;TZID=America/Chicago:20240427T160000
DTEND;TZID=America/Chicago:20240427T190000
DTSTAMP:20260424T005732
CREATED:20240413T033659Z
LAST-MODIFIED:20240413T033659Z
UID:785-1714233600-1714244400@swtavernleague.com
SUMMARY:Donnie Reyzek - The Golden Eagle Bar and Grill
DESCRIPTION:
URL:https://swtavernleague.com/event/donnie-reyzek-the-golden-eagle-bar-and-grill/
LOCATION:The Golden Eagle Bar and Grill\, 103 County Road ID\, Barneveld\, WI\, 53507\, United States
ATTACH;FMTTYPE=image/jpeg:https://swtavernleague.com/wp-content/uploads/2023/05/DonnieReyzek.jpg
END:VEVENT
BEGIN:VEVENT
DTSTART;TZID=America/Chicago:20240427T150000
DTEND;TZID=America/Chicago:20240427T230000
DTSTAMP:20260424T005732
CREATED:20240320T014555Z
LAST-MODIFIED:20240320T014555Z
UID:697-1714230000-1714258800@swtavernleague.com
SUMMARY:Annual Testical Festival - Yoder's Rockville Bar
DESCRIPTION:
URL:https://swtavernleague.com/event/annual-testical-festival-yoders-rockville-bar/
LOCATION:Yoder’s Rockville Bar\, 6090 Hwy 35 & 61\, Potosi\, WI\, 53820\, United States
ATTACH;FMTTYPE=image/jpeg:https://swtavernleague.com/wp-content/uploads/2024/03/nutz-e1710898963822.jpg
END:VEVENT
BEGIN:VEVENT
DTSTART;TZID=America/Chicago:20240427T150000
DTEND;TZID=America/Chicago:20240427T180000
DTSTAMP:20260424T005732
CREATED:20240322T142037Z
LAST-MODIFIED:20240322T142037Z
UID:715-1714230000-1714240800@swtavernleague.com
SUMMARY:Mixed Emotions - Son Chasers Social Club
DESCRIPTION:
URL:https://swtavernleague.com/event/mixed-emotions-son-chasers-social-club-6/
LOCATION:Son Chasers Social Club\, 218 E. Amelia St\, Cassville\, WI\, 53806\, United States
ATTACH;FMTTYPE=image/png:https://swtavernleague.com/wp-content/uploads/2023/04/Mixed-Emotions.jpg.png
END:VEVENT
BEGIN:VEVENT
DTSTART;TZID=America/Chicago:20240427T130000
DTEND;TZID=America/Chicago:20240427T160000
DTSTAMP:20260424T005732
CREATED:20240216T032343Z
LAST-MODIFIED:20240216T032343Z
UID:622-1714222800-1714233600@swtavernleague.com
SUMMARY:Tessa Leibfreid  - PJs Pub
DESCRIPTION:1-4pm\nFree show\nFront Bar
URL:https://swtavernleague.com/event/tessa-leibfreid-pjs-pub/
LOCATION:PJ’s Pub\, 3670 County Road HHH\, Keiler\, WI\, 53812\, United States
ATTACH;FMTTYPE=image/jpeg:https://swtavernleague.com/wp-content/uploads/2024/01/TessaLeibfried-e1704573402577.jpg
END:VEVENT
BEGIN:VEVENT
DTSTART;TZID=America/Chicago:20240427T100000
DTEND;TZID=America/Chicago:20240427T190000
DTSTAMP:20260424T005732
CREATED:20240329T013139Z
LAST-MODIFIED:20240329T014200Z
UID:773-1714212000-1714244400@swtavernleague.com
SUMMARY:Spring ATV/UTV Fun Run - Daniels Lounge
DESCRIPTION:Saturday April 27th will be our annual spring ATV/UTV fun run (all vehicles welcome). Sign up at Midwest Motorsports/Daniels Lounge starting at 10am. You will be given a list of stops upon registration. Sign up/registration ends at noon. Once you register you can take off and ride at your own pace or with your own group. Meet back to Daniels Lounge by 7PM to turn in your cards and be entered into the drawing.. It will be 100% Payback. Hope to see you all there! Please call Midwest Motorsports for more information!
URL:https://swtavernleague.com/event/spring-atv-utv-fun-run-daniels-lounge/
LOCATION:Daniels Lounge\, 3699 Prism Ln\, Keiler\, WI\, 53812\, United States
ATTACH;FMTTYPE=image/jpeg:https://swtavernleague.com/wp-content/uploads/2024/03/ATV-e1711676476685.jpg
END:VEVENT
BEGIN:VEVENT
DTSTART;TZID=America/Chicago:20240420T200000
DTEND;TZID=America/Chicago:20240420T230000
DTSTAMP:20260424T005732
CREATED:20240416T231205Z
LAST-MODIFIED:20240416T231205Z
UID:790-1713643200-1713654000@swtavernleague.com
SUMMARY:Jordyn Delzer & Jesse Bauman - Neighbors Ridgeway
DESCRIPTION:
URL:https://swtavernleague.com/event/jordyn-delzer-jesse-bauman-neighbors-ridgeway/
LOCATION:Neighbors Ridgeway\, 619 Main St\, Ridgeway\, WI\, 53582\, United States
ATTACH;FMTTYPE=image/png:https://swtavernleague.com/wp-content/uploads/2023/06/JordynDelzerWJesseBauman.png
END:VEVENT
BEGIN:VEVENT
DTSTART;TZID=America/Chicago:20240420T200000
DTEND;TZID=America/Chicago:20240420T220000
DTSTAMP:20260424T005732
CREATED:20240313T020629Z
LAST-MODIFIED:20240313T020629Z
UID:664-1713643200-1713650400@swtavernleague.com
SUMMARY:Secrets Band - The Mine Shaft
DESCRIPTION:
URL:https://swtavernleague.com/event/secrets-band-the-mine-shaft-5/
LOCATION:The Mine Shaft\, 155 High St\, Mineral Point\, WI\, 53565\, United States
ATTACH;FMTTYPE=image/jpeg:https://swtavernleague.com/wp-content/uploads/2024/03/Secrets-Band-e1710295439133.jpg
END:VEVENT
BEGIN:VEVENT
DTSTART;TZID=America/Chicago:20240420T190000
DTEND;TZID=America/Chicago:20240420T230000
DTSTAMP:20260424T005732
CREATED:20240314T013209Z
LAST-MODIFIED:20240314T013209Z
UID:680-1713639600-1713654000@swtavernleague.com
SUMMARY:Lou's 65th Birthday Party - New Diggings General Store
DESCRIPTION:Lou’s turning 65! Live music by the Resister’s at 7!
URL:https://swtavernleague.com/event/lous-65th-birthday-party-new-diggings-general-store/
LOCATION:New Diggings General Store\, 2944 County Road I\, Benton\, WI\, 53803\, United States
ATTACH;FMTTYPE=image/jpeg:https://swtavernleague.com/wp-content/uploads/2024/03/New-Diggings-General-Store-e1710296662221.jpg
END:VEVENT
BEGIN:VEVENT
DTSTART;TZID=America/Chicago:20240420T150000
DTEND;TZID=America/Chicago:20240420T180000
DTSTAMP:20260424T005732
CREATED:20240322T141921Z
LAST-MODIFIED:20240322T141921Z
UID:713-1713625200-1713636000@swtavernleague.com
SUMMARY:Chase Pebworth - Son Chasers Social Club
DESCRIPTION:
URL:https://swtavernleague.com/event/chase-pebworth-son-chasers-social-club-5/
LOCATION:Son Chasers Social Club\, 218 E. Amelia St\, Cassville\, WI\, 53806\, United States
ATTACH;FMTTYPE=image/jpeg:https://swtavernleague.com/wp-content/uploads/2023/04/Chase-Pebworth.jpg
END:VEVENT
BEGIN:VEVENT
DTSTART;TZID=America/Chicago:20240420T143000
DTEND;TZID=America/Chicago:20240420T183000
DTSTAMP:20260424T005732
CREATED:20240416T231012Z
LAST-MODIFIED:20240416T231012Z
UID:788-1713623400-1713637800@swtavernleague.com
SUMMARY:Meat Paddles - Neighbors Ridgeway
DESCRIPTION:
URL:https://swtavernleague.com/event/meat-paddles-neighbors-ridgeway/
LOCATION:Neighbors Ridgeway\, 619 Main St\, Ridgeway\, WI\, 53582\, United States
ATTACH;FMTTYPE=image/jpeg:https://swtavernleague.com/wp-content/uploads/2023/10/NeighborsRidgeway-e1696902975800.jpg
END:VEVENT
BEGIN:VEVENT
DTSTART;TZID=America/Chicago:20240420T130000
DTEND;TZID=America/Chicago:20240420T160000
DTSTAMP:20260424T005732
CREATED:20240202T163348Z
LAST-MODIFIED:20240202T163348Z
UID:616-1713618000-1713628800@swtavernleague.com
SUMMARY:Steve Kalmes - PJ's Pub
DESCRIPTION:Free show\nFront bar
URL:https://swtavernleague.com/event/steve-kalmes-pjs-pub/
LOCATION:PJ’s Pub\, 3670 County Road HHH\, Keiler\, WI\, 53812\, United States
ATTACH;FMTTYPE=image/jpeg:https://swtavernleague.com/wp-content/uploads/2024/02/SteveKalmes-e1706891613324.jpg
END:VEVENT
BEGIN:VEVENT
DTSTART;TZID=America/Chicago:20240419T173000
DTEND;TZID=America/Chicago:20240419T213000
DTSTAMP:20260424T005732
CREATED:20240419T124302Z
LAST-MODIFIED:20240419T124302Z
UID:805-1713547800-1713562200@swtavernleague.com
SUMMARY:Swing Crew - The Annex
DESCRIPTION:
URL:https://swtavernleague.com/event/swing-crew-the-annex/
LOCATION:The Annex\, 175 W. Business Hwy 151\, Platteville\, WI\, 53818\, United States
ATTACH;FMTTYPE=image/jpeg:https://swtavernleague.com/wp-content/uploads/2024/03/Swing-Crew-e1710471342116.jpg
END:VEVENT
BEGIN:VEVENT
DTSTART;TZID=America/Chicago:20240417T180000
DTEND;TZID=America/Chicago:20240417T200000
DTSTAMP:20260424T005732
CREATED:20240419T124607Z
LAST-MODIFIED:20240419T124607Z
UID:807-1713376800-1713384000@swtavernleague.com
SUMMARY:Sunshine - The Annex
DESCRIPTION:
URL:https://swtavernleague.com/event/sunshine-the-annex/
LOCATION:The Annex\, 175 W. Business Hwy 151\, Platteville\, WI\, 53818\, United States
ATTACH;FMTTYPE=image/jpeg:https://swtavernleague.com/wp-content/uploads/2024/04/TheAnnex.jpg
END:VEVENT
BEGIN:VEVENT
DTSTART;TZID=America/Chicago:20240417T130000
DTEND;TZID=America/Chicago:20240417T160000
DTSTAMP:20260424T005732
CREATED:20240313T022913Z
LAST-MODIFIED:20240313T022913Z
UID:673-1713358800-1713369600@swtavernleague.com
SUMMARY:Cash Bingo - New Diggings General Store
DESCRIPTION:Drop into the Diggs and enjoy some bingo and win some $$
URL:https://swtavernleague.com/event/cash-bingo-new-diggings-general-store/
LOCATION:New Diggings General Store\, 2944 County Road I\, Benton\, WI\, 53803\, United States
ATTACH;FMTTYPE=image/jpeg:https://swtavernleague.com/wp-content/uploads/2024/03/Bingo.jpg
END:VEVENT
BEGIN:VEVENT
DTSTART;TZID=America/Chicago:20240413T150000
DTEND;TZID=America/Chicago:20240413T180000
DTSTAMP:20260424T005732
CREATED:20240322T141731Z
LAST-MODIFIED:20240322T141731Z
UID:711-1713020400-1713031200@swtavernleague.com
SUMMARY:Rachel Neal - Son Chasers Social Club
DESCRIPTION:
URL:https://swtavernleague.com/event/rachel-neal-son-chasers-social-club/
LOCATION:Son Chasers Social Club\, 218 E. Amelia St\, Cassville\, WI\, 53806\, United States
ATTACH;FMTTYPE=image/jpeg:https://swtavernleague.com/wp-content/uploads/2024/02/RachelNeil-e1706890049197.jpg
END:VEVENT
BEGIN:VEVENT
DTSTART;TZID=America/Chicago:20240412T183000
DTEND;TZID=America/Chicago:20240412T210000
DTSTAMP:20260424T005732
CREATED:20240407T011814Z
LAST-MODIFIED:20240407T011918Z
UID:778-1712946600-1712955600@swtavernleague.com
SUMMARY:Cash Bingo - New Diggings General Store
DESCRIPTION:Bingo\, $2 per card per game. 100 percent pay outs.
URL:https://swtavernleague.com/event/cash-bingo-new-diggings-general-store-3/
LOCATION:New Diggings General Store\, 2944 County Road I\, Benton\, WI\, 53803\, United States
ATTACH;FMTTYPE=image/jpeg:https://swtavernleague.com/wp-content/uploads/2024/03/Bingo.jpg
END:VEVENT
BEGIN:VEVENT
DTSTART;TZID=America/Chicago:20240406T150000
DTEND;TZID=America/Chicago:20240406T180000
DTSTAMP:20260424T005732
CREATED:20240322T141604Z
LAST-MODIFIED:20240322T141604Z
UID:708-1712415600-1712426400@swtavernleague.com
SUMMARY:Kevin and Tessa Duo - Son Chasers Social Club
DESCRIPTION:
URL:https://swtavernleague.com/event/kevin-and-tessa-duo-son-chasers-social-club/
LOCATION:Son Chasers Social Club\, 218 E. Amelia St\, Cassville\, WI\, 53806\, United States
ATTACH;FMTTYPE=image/jpeg:https://swtavernleague.com/wp-content/uploads/2024/03/Kevin-and-Tessa-e1711116937612.jpg
END:VEVENT
BEGIN:VEVENT
DTSTART;TZID=America/Chicago:20240330T200000
DTEND;TZID=America/Chicago:20240330T220000
DTSTAMP:20260424T005732
CREATED:20240313T020412Z
LAST-MODIFIED:20240313T020412Z
UID:661-1711828800-1711836000@swtavernleague.com
SUMMARY:Secrets Band - The Mine Shaft
DESCRIPTION:
URL:https://swtavernleague.com/event/secrets-band-the-mine-shaft-4/
LOCATION:The Mine Shaft\, 155 High St\, Mineral Point\, WI\, 53565\, United States
ATTACH;FMTTYPE=image/jpeg:https://swtavernleague.com/wp-content/uploads/2024/03/Secrets-Band-e1710295439133.jpg
END:VEVENT
BEGIN:VEVENT
DTSTART;TZID=America/Chicago:20240330T190000
DTEND;TZID=America/Chicago:20240330T220000
DTSTAMP:20260424T005732
CREATED:20240321T014524Z
LAST-MODIFIED:20240321T014524Z
UID:701-1711825200-1711836000@swtavernleague.com
SUMMARY:Big Cat Eddie - Twisted Vines Pub and Eatery
DESCRIPTION:
URL:https://swtavernleague.com/event/big-cat-eddie-twisted-vines-pub-and-eatery/
LOCATION:Twisted Vines Pub and Eatery\, 102 N. Main Street\, Potosi\, WI\, 53820\, United States
ATTACH;FMTTYPE=image/jpeg:https://swtavernleague.com/wp-content/uploads/2024/03/Big-Cat-Eddie-e1710985506135.jpg
END:VEVENT
BEGIN:VEVENT
DTSTART;TZID=America/Chicago:20240330T150000
DTEND;TZID=America/Chicago:20240330T180000
DTSTAMP:20260424T005732
CREATED:20240322T141143Z
LAST-MODIFIED:20240322T141143Z
UID:706-1711810800-1711821600@swtavernleague.com
SUMMARY:Easter Bunny Hop with Chase Pebworth - Son Chasers Social Club
DESCRIPTION:
URL:https://swtavernleague.com/event/easter-bunny-hop-with-chase-pebworth-son-chasers-social-club/
LOCATION:Son Chasers Social Club\, 218 E. Amelia St\, Cassville\, WI\, 53806\, United States
ATTACH;FMTTYPE=image/jpeg:https://swtavernleague.com/wp-content/uploads/2023/04/Chase-Pebworth.jpg
END:VEVENT
BEGIN:VEVENT
DTSTART;TZID=America/Chicago:20240324T130000
DTEND;TZID=America/Chicago:20240324T140000
DTSTAMP:20260424T005732
CREATED:20240313T015525Z
LAST-MODIFIED:20240313T015525Z
UID:655-1711285200-1711288800@swtavernleague.com
SUMMARY:Comedian Kevin Craft - The Mine Shaft
DESCRIPTION:Seen on Last Comic Standing\, Tyra Banks Show & VH1
URL:https://swtavernleague.com/event/comedian-kevin-craft-the-mine-shaft/
LOCATION:The Mine Shaft\, 155 High St\, Mineral Point\, WI\, 53565\, United States
ATTACH;FMTTYPE=image/jpeg:https://swtavernleague.com/wp-content/uploads/2024/03/Comedian-Kevin-Craft-e1710294815210.jpg
END:VEVENT
END:VCALENDAR