BEGIN:VCALENDAR
VERSION:2.0
PRODID:-//Grant-Iowa Tavern League - ECPv6.15.20//NONSGML v1.0//EN
CALSCALE:GREGORIAN
METHOD:PUBLISH
X-WR-CALNAME:Grant-Iowa Tavern League
X-ORIGINAL-URL:https://swtavernleague.com
X-WR-CALDESC:Events for Grant-Iowa Tavern League
REFRESH-INTERVAL;VALUE=DURATION:PT1H
X-Robots-Tag:noindex
X-PUBLISHED-TTL:PT1H
BEGIN:VTIMEZONE
TZID:America/Chicago
BEGIN:DAYLIGHT
TZOFFSETFROM:-0600
TZOFFSETTO:-0500
TZNAME:CDT
DTSTART:20240310T080000
END:DAYLIGHT
BEGIN:STANDARD
TZOFFSETFROM:-0500
TZOFFSETTO:-0600
TZNAME:CST
DTSTART:20241103T070000
END:STANDARD
BEGIN:DAYLIGHT
TZOFFSETFROM:-0600
TZOFFSETTO:-0500
TZNAME:CDT
DTSTART:20250309T080000
END:DAYLIGHT
BEGIN:STANDARD
TZOFFSETFROM:-0500
TZOFFSETTO:-0600
TZNAME:CST
DTSTART:20251102T070000
END:STANDARD
BEGIN:DAYLIGHT
TZOFFSETFROM:-0600
TZOFFSETTO:-0500
TZNAME:CDT
DTSTART:20260308T080000
END:DAYLIGHT
BEGIN:STANDARD
TZOFFSETFROM:-0500
TZOFFSETTO:-0600
TZNAME:CST
DTSTART:20261101T070000
END:STANDARD
END:VTIMEZONE
BEGIN:VEVENT
DTSTART;TZID=America/Chicago:20250702T183000
DTEND;TZID=America/Chicago:20250702T203000
DTSTAMP:20260425T202629
CREATED:20250616T020644Z
LAST-MODIFIED:20250616T020644Z
UID:1296-1751481000-1751488200@swtavernleague.com
SUMMARY:Music in the Park + Market - Volunteer Park
DESCRIPTION:Music in the Park + Mississippi Market\nChase Pebworth will be singing tunes from 6:30 – 8:30 PM\nMusic sponsored by Son Chasers Social Club! \nFood will be provided by Son Chasers Social Club\, and all proceeds will go to the Humane Society. \nVolunteer Park • Cassville WI
URL:https://swtavernleague.com/event/music-in-the-park-market-volunteer-park-3/
LOCATION:Cassville Volunteer Park\, 304 Denniston St\, Cassville\, WI\, 53806\, United States
ATTACH;FMTTYPE=image/jpeg:https://swtavernleague.com/wp-content/uploads/2025/06/July2-e1750039330876.jpg
END:VEVENT
BEGIN:VEVENT
DTSTART;TZID=America/Chicago:20250704T103000
DTEND;TZID=America/Chicago:20250704T180000
DTSTAMP:20260425T202629
CREATED:20250616T023716Z
LAST-MODIFIED:20250616T023716Z
UID:1305-1751625000-1751652000@swtavernleague.com
SUMMARY:Golden Sky on the 4th of July - Cassville Riverside Park
DESCRIPTION:We are so excited to announce that we will have the All-Veteran Parachute Jumpers this 4th of July at the Cassville High School Athletic Field.\nParade\, Food\, Kid Activities\, Beer Tent\, Live Music\, Kickball Tournament & more!\nCasey Klein will be rocking the tunes!\n𝘗𝘢𝘳𝘢𝘥𝘦 • 𝘔𝘶𝘴𝘪𝘤 • 𝘍𝘰𝘰𝘥 • 𝘍𝘢𝘮𝘪𝘭𝘺 𝘍𝘶𝘯 • 𝘊𝘰𝘮𝘮𝘶𝘯𝘪𝘵𝘺 𝘗𝘳𝘪𝘥𝘦\n𝗦𝗶𝗴𝗻 𝘂𝗽 𝘁𝗼𝗱𝗮𝘆 𝘁𝗼 𝗯𝗲 𝗶𝗻 𝗼𝘂𝗿 𝟰𝘁𝗵 𝗼𝗳 𝗝𝘂𝗹𝘆 𝗣𝗮𝗿𝗮𝗱𝗲 𝗶𝗻 𝗖𝗮𝘀𝘀𝘃𝗶𝗹𝗹𝗲\, 𝗪𝗜!🇺🇸\n📲 Register now and celebrate Independence Day with us in true Cassville style!\nhttps://forms.gle/hARMKViNqrqWsgB87 \nParade: 10:30 AM\nCassville Athletic Field opens up after the Parade\nFood 12-5\nBeer Tent\nKickball Tournament 11:30 AM\nAll Veterans Jump 12:45 PM\nMusic 2-5
URL:https://swtavernleague.com/event/golden-sky-on-the-4th-of-july-cassville-riverside-park/
LOCATION:Cassville Riverside Park\, 100 E Crawford Street\, Cassville\, WI\, 53806\, United States
ATTACH;FMTTYPE=image/jpeg:https://swtavernleague.com/wp-content/uploads/2025/06/July4-e1750041117167.jpg
END:VEVENT
BEGIN:VEVENT
DTSTART;TZID=America/Chicago:20250706T130000
DTEND;TZID=America/Chicago:20250706T140000
DTSTAMP:20260425T202629
CREATED:20250624T013836Z
LAST-MODIFIED:20250624T013911Z
UID:1312-1751806800-1751810400@swtavernleague.com
SUMMARY:3rd Annual Hot Dog Eating Contest - Valley Pub
DESCRIPTION:Compete for a $100 prize by eating the most hot dogs with buns in 12 minutes. \n$5 entry fee
URL:https://swtavernleague.com/event/3rd-annual-hot-dog-eating-contest-valley-pub/
LOCATION:Valley Pub\, 7921 County Road U\, Beetown\, United States
ATTACH;FMTTYPE=image/jpeg:https://swtavernleague.com/wp-content/uploads/2025/06/HotDogContest-e1750729062459.jpg
END:VEVENT
BEGIN:VEVENT
DTSTART;TZID=America/Chicago:20250712T120000
DTEND;TZID=America/Chicago:20250712T180000
DTSTAMP:20260425T202629
CREATED:20250707T023656Z
LAST-MODIFIED:20250707T023656Z
UID:1321-1752321600-1752343200@swtavernleague.com
SUMMARY:Customer Appreciation Party - Thee Farmers Daughter
DESCRIPTION:Appreciation for all our customer supporters throughout our first year. Party on the Back Patio to include live music by Abbey Lane and Driftless Donkey Entertainment July 12th from Noon until 6 pm to include complimentary snack bar and freshly smoked appetizers.
URL:https://swtavernleague.com/event/customer-appreciation-party-thee-farmers-daughter/
LOCATION:Thee Farmers Daughter\, 209 Exchange St\, Blue River\, WI\, 53518\, United States
ATTACH;FMTTYPE=image/jpeg:https://swtavernleague.com/wp-content/uploads/2025/07/TheeFarmersDaughter-e1751855703192.jpg
END:VEVENT
BEGIN:VEVENT
DTSTART;TZID=America/Chicago:20250714T120000
DTEND;TZID=America/Chicago:20250714T170000
DTSTAMP:20260425T202629
CREATED:20250603T024221Z
LAST-MODIFIED:20250603T024221Z
UID:1271-1752494400-1752512400@swtavernleague.com
SUMMARY:Crayfish Boil - Gracies Point
DESCRIPTION:Serving from 1230pm till gone with live music from 1 to 4 Darin and Amber a local duo!
URL:https://swtavernleague.com/event/crayfish-boil-gracies-point/
LOCATION:Gracie’s Point\, 9396 State Road 80\, Platteville\, WI\, 53818\, United States
ATTACH;FMTTYPE=image/jpeg:https://swtavernleague.com/wp-content/uploads/2025/06/CrayfishBoil-e1748918506937.jpg
END:VEVENT
BEGIN:VEVENT
DTSTART;TZID=America/Chicago:20250719T100000
DTEND;TZID=America/Chicago:20250719T180000
DTSTAMP:20260425T202629
CREATED:20250714T012008Z
LAST-MODIFIED:20250715T193838Z
UID:1325-1752919200-1752948000@swtavernleague.com
SUMMARY:UTV Ride - Bar-tell's Bar
DESCRIPTION:UTV ride benefit for the American Legion to raise money for repairs.
URL:https://swtavernleague.com/event/utv-ride-bar-tells-bar/
LOCATION:Bar-tell’s Bar\, 2040 S Main St\, Hazel Green\, WI\, 53811\, United States
ATTACH;FMTTYPE=image/png:https://swtavernleague.com/wp-content/uploads/2025/07/Screenshot_20250715-143621.png
END:VEVENT
BEGIN:VEVENT
DTSTART;TZID=America/Chicago:20250719T100000
DTEND;TZID=America/Chicago:20250719T220000
DTSTAMP:20260425T202629
CREATED:20250517T162414Z
LAST-MODIFIED:20250517T162414Z
UID:1256-1752919200-1752962400@swtavernleague.com
SUMMARY:Annual Memorial Ride - Yoder's Bar Rockville
DESCRIPTION:Registration: 10-11 AM \n$15/Person \nBar will open at 10am\, leaving at 11:30am sharp \nFood after ride. \n50/50 Raffle\n80% Payback\n20% Goes to local charities\nNeed not be present to win.
URL:https://swtavernleague.com/event/annual-memorial-ride-yoders-bar-rockville/
LOCATION:Yoder’s Rockville Bar\, 6090 Hwy 35 & 61\, Potosi\, WI\, 53820\, United States
ATTACH;FMTTYPE=image/jpeg:https://swtavernleague.com/wp-content/uploads/2025/05/YodersRide-2025.jpg
END:VEVENT
BEGIN:VEVENT
DTSTART;TZID=America/Chicago:20250719T120000
DTEND;TZID=America/Chicago:20250720T000000
DTSTAMP:20260425T202629
CREATED:20250506T011143Z
LAST-MODIFIED:20250506T011143Z
UID:1225-1752926400-1752969600@swtavernleague.com
SUMMARY:Southwest Music Fest - Historic 2nd Street
DESCRIPTION:Southwest Music Festival\, hosted by the Platteville Regional Chamber\, kicks off Platteville’s Hometown Festival Week each year in July. Live music is featured on the main stage which is placed right in the middle of our historic 2nd Street. In addition to the music\, we will have raffle prizes\, a 50/50 drawing and pull tabs. Feel free to bring your own lawn chair. Anyone under the age of 21 must be accompanied by a guardian. \nThe Pork Tornadoes are without a doubt\, the most well-known and loved party band of the Midwest. They are known for putting a unique spin on all of your favorite songs\, spanning 5 decades and 4 different genres. Led by singer Mason Greve\, who is known as “The Justin Timberlake of the Midwest” and was a finalist on a Not-To-Be-Mentioned National TV singing show in 2014\, The Pork Tornadoes will blow you away with an electric mix of covers ranging from Taylor Swift\, Katy Perry\, Justin Timberlake and Beyonce\, all the way to Lizzo\, The Killers\, Coolio and Phil Collins. Their debut EP peaked on the Apple iTunes Pop charts at #20 and has been streamed over 1.3 million times. They recently achieved viral success with the 5th-most viewed cover of ‘Tennessee Whiskey’ on Youtube and an impromptu performance of ‘In The Air Tonight’ with a drum line that was featured in Rolling Stone Magazine. Performing music that people of all ages and musical backgrounds can enjoy\, crowds of fun-loving music fans continue to attend every Pork Tornadoes concert that they can. With over 18 million views on their videos and more than 100\,000 social media fans worldwide\, it’s time for you to buy that ticket or hire this band so you can see what the fuss is all about. \nBLUE STEEL was forged in the fire of two music styles\, Country & Rock. With powerful male and female lead vocals\, supported by rich three-part harmonies\, and backed by some of the finest musicians\, they deliver an unforgettable musical experience. \nWalking Molly is a band from Dubuque\, Iowa playing your favorite hit songs from the best decades of popular music. They pride themselves on having a versatile song list and being well rehearsed with good vocals.
URL:https://swtavernleague.com/event/southwest-music-fest-historic-2nd-street-2/
LOCATION:Historic 2nd Street\, 2nd Street\, Platteville\, WI\, 53818\, United States
ATTACH;FMTTYPE=image/jpeg:https://swtavernleague.com/wp-content/uploads/2025/05/SWMusic_Fest.jpg
END:VEVENT
BEGIN:VEVENT
DTSTART;TZID=America/Chicago:20250720T110000
DTEND;TZID=America/Chicago:20250720T170000
DTSTAMP:20260425T202629
CREATED:20250626T024852Z
LAST-MODIFIED:20250626T024852Z
UID:1317-1753009200-1753030800@swtavernleague.com
SUMMARY:Second Shot Golf Outing - Second Shot
DESCRIPTION:Shotgun start\n4 person best ball\nFlag Prizes\nMeal afterwards at the Second Shot
URL:https://swtavernleague.com/event/second-shot-golf-outing-second-shot/
LOCATION:Second Shot Saloon\, 1260 7th Street\, Fennimore\, WI\, 53809\, United States
ATTACH;FMTTYPE=image/jpeg:https://swtavernleague.com/wp-content/uploads/2025/06/SecondShotSaloon-e1750906122328.jpg
END:VEVENT
END:VCALENDAR