BEGIN:VCALENDAR
VERSION:2.0
PRODID:-//Grant-Iowa Tavern League - ECPv6.15.20//NONSGML v1.0//EN
CALSCALE:GREGORIAN
METHOD:PUBLISH
X-WR-CALNAME:Grant-Iowa Tavern League
X-ORIGINAL-URL:https://swtavernleague.com
X-WR-CALDESC:Events for Grant-Iowa Tavern League
REFRESH-INTERVAL;VALUE=DURATION:PT1H
X-Robots-Tag:noindex
X-PUBLISHED-TTL:PT1H
BEGIN:VTIMEZONE
TZID:America/Chicago
BEGIN:DAYLIGHT
TZOFFSETFROM:-0600
TZOFFSETTO:-0500
TZNAME:CDT
DTSTART:20240310T080000
END:DAYLIGHT
BEGIN:STANDARD
TZOFFSETFROM:-0500
TZOFFSETTO:-0600
TZNAME:CST
DTSTART:20241103T070000
END:STANDARD
BEGIN:DAYLIGHT
TZOFFSETFROM:-0600
TZOFFSETTO:-0500
TZNAME:CDT
DTSTART:20250309T080000
END:DAYLIGHT
BEGIN:STANDARD
TZOFFSETFROM:-0500
TZOFFSETTO:-0600
TZNAME:CST
DTSTART:20251102T070000
END:STANDARD
BEGIN:DAYLIGHT
TZOFFSETFROM:-0600
TZOFFSETTO:-0500
TZNAME:CDT
DTSTART:20260308T080000
END:DAYLIGHT
BEGIN:STANDARD
TZOFFSETFROM:-0500
TZOFFSETTO:-0600
TZNAME:CST
DTSTART:20261101T070000
END:STANDARD
END:VTIMEZONE
BEGIN:VEVENT
DTSTART;TZID=America/Chicago:20251101T193000
DTEND;TZID=America/Chicago:20251101T230000
DTSTAMP:20260421T050432
CREATED:20251021T014443Z
LAST-MODIFIED:20251021T014618Z
UID:1389-1762025400-1762038000@swtavernleague.com
SUMMARY:Halloween Bash - Neighbors Ridgeway
DESCRIPTION:Hot Rod DJ. Costume prizes
URL:https://swtavernleague.com/event/halloween-bash-neighbors-ridgeway/
LOCATION:Neighbors Ridgeway\, 619 Main St\, Ridgeway\, WI\, 53582\, United States
ATTACH;FMTTYPE=image/png:https://swtavernleague.com/wp-content/uploads/2025/10/HalloweenParty-e1761011140801.png
END:VEVENT
BEGIN:VEVENT
DTSTART;TZID=America/Chicago:20251107T183000
DTEND;TZID=America/Chicago:20251107T210000
DTSTAMP:20260421T050432
CREATED:20251021T013133Z
LAST-MODIFIED:20251021T013133Z
UID:1387-1762540200-1762549200@swtavernleague.com
SUMMARY:Naughty Bingo - Neighbors Ridgeway
DESCRIPTION:Adult toy prizes
URL:https://swtavernleague.com/event/naughty-bingo-neighbors-ridgeway/
LOCATION:Neighbors Ridgeway\, 619 Main St\, Ridgeway\, WI\, 53582\, United States
ATTACH;FMTTYPE=image/jpeg:https://swtavernleague.com/wp-content/uploads/2024/03/Bingo.jpg
END:VEVENT
BEGIN:VEVENT
DTSTART;TZID=America/Chicago:20251122T150000
DTEND;TZID=America/Chicago:20251123T000000
DTSTAMP:20260421T050432
CREATED:20251031T013121Z
LAST-MODIFIED:20251031T013957Z
UID:1408-1763823600-1763856000@swtavernleague.com
SUMMARY:Ladies Night Out ~ Naughty Bingo ~ Hot Rod Dj - Grindstone Pub
DESCRIPTION:Ladies Night Out\nNaughty Bingo Starting @ 3:00pm\nHot Rod DJ following Bingo 7:00 pm
URL:https://swtavernleague.com/event/ladies-night-out-naughty-bingo-hot-rod-dj-grindstone-pub/
LOCATION:Grindstone Pub\, 236 W Water St\, Shullsburg\, WI\, 53586\, United States
ATTACH;FMTTYPE=image/jpeg:https://swtavernleague.com/wp-content/uploads/2025/10/Grindstone-Pub-e1761874517439.jpg
END:VEVENT
BEGIN:VEVENT
DTSTART;TZID=America/Chicago:20251122T190000
DTEND;TZID=America/Chicago:20251122T220000
DTSTAMP:20260421T050432
CREATED:20251109T020429Z
LAST-MODIFIED:20251109T020429Z
UID:1416-1763838000-1763848800@swtavernleague.com
SUMMARY:Brett Julson Acoustical - Neighbors Ridgeway
DESCRIPTION:
URL:https://swtavernleague.com/event/brett-julson-acoustical-neighbors-ridgeway/
LOCATION:Neighbors Ridgeway\, 619 Main St\, Ridgeway\, WI\, 53582\, United States
ATTACH;FMTTYPE=image/jpeg:https://swtavernleague.com/wp-content/uploads/2025/11/Brett-Julson-Acoustical-e1762653727684.jpg
END:VEVENT
BEGIN:VEVENT
DTSTART;TZID=America/Chicago:20251126T190000
DTEND;TZID=America/Chicago:20251126T230000
DTSTAMP:20260421T050432
CREATED:20251031T010504Z
LAST-MODIFIED:20251031T010504Z
UID:1398-1764183600-1764198000@swtavernleague.com
SUMMARY:Jesse Bauman & The Ramblers - The Mine Shaft
DESCRIPTION:Join us for “blackout night” at The Mine Shaft with Jesse Bauman & The Ramblers jamming all night.
URL:https://swtavernleague.com/event/jesse-bauman-the-ramblers-the-mine-shaft/
LOCATION:The Mine Shaft\, 155 High St\, Mineral Point\, WI\, 53565\, United States
ATTACH;FMTTYPE=image/jpeg:https://swtavernleague.com/wp-content/uploads/2025/02/JesseBauman-e1739329078691.jpg
END:VEVENT
BEGIN:VEVENT
DTSTART;TZID=America/Chicago:20251126T200000
DTEND;TZID=America/Chicago:20251127T000000
DTSTAMP:20260421T050432
CREATED:20251031T015052Z
LAST-MODIFIED:20251031T015052Z
UID:1412-1764187200-1764201600@swtavernleague.com
SUMMARY:Triple Play Band - Grindstone Pub
DESCRIPTION:Wednesday November 26\nTriple Play Band\nGrindstone Pub\nShullsburg Wi 53586
URL:https://swtavernleague.com/event/triple-play-band-grindstone-pub/
LOCATION:Grindstone Pub\, 236 W Water St\, Shullsburg\, WI\, 53586\, United States
ATTACH;FMTTYPE=image/jpeg:https://swtavernleague.com/wp-content/uploads/2025/10/TriplePlay-e1761875431720.jpg
END:VEVENT
BEGIN:VEVENT
DTSTART;TZID=America/Chicago:20251129T150000
DTEND;TZID=America/Chicago:20251129T180000
DTSTAMP:20260421T050432
CREATED:20251006T014044Z
LAST-MODIFIED:20251006T014044Z
UID:1375-1764428400-1764439200@swtavernleague.com
SUMMARY:Rockin Around the Christmas Tree w/Chase Pebworth - Son Chasers
DESCRIPTION:
URL:https://swtavernleague.com/event/rockin-around-the-christmas-tree-w-chase-pebworth-son-chasers/
LOCATION:Son Chasers Social Club\, 218 E. Amelia St\, Cassville\, WI\, 53806\, United States
ATTACH;FMTTYPE=image/jpeg:https://swtavernleague.com/wp-content/uploads/2023/04/Chase-Pebworth.jpg
END:VEVENT
BEGIN:VEVENT
DTSTART;TZID=America/Chicago:20251129T193000
DTEND;TZID=America/Chicago:20251130T000000
DTSTAMP:20260421T050432
CREATED:20251021T012550Z
LAST-MODIFIED:20251021T012550Z
UID:1384-1764444600-1764460800@swtavernleague.com
SUMMARY:Hot Rod DJ - Neighbors Ridgeway
DESCRIPTION:
URL:https://swtavernleague.com/event/hot-rod-dj-neighbors-ridgeway-3/
LOCATION:Neighbors Ridgeway\, 619 Main St\, Ridgeway\, WI\, 53582\, United States
ATTACH;FMTTYPE=image/jpeg:https://swtavernleague.com/wp-content/uploads/2025/10/NeighborsRidgeway2-e1761009934617.jpg
END:VEVENT
END:VCALENDAR