BEGIN:VCALENDAR
VERSION:2.0
PRODID:-//Grant-Iowa Tavern League - ECPv6.15.20//NONSGML v1.0//EN
CALSCALE:GREGORIAN
METHOD:PUBLISH
X-ORIGINAL-URL:https://swtavernleague.com
X-WR-CALDESC:Events for Grant-Iowa Tavern League
REFRESH-INTERVAL;VALUE=DURATION:PT1H
X-Robots-Tag:noindex
X-PUBLISHED-TTL:PT1H
BEGIN:VTIMEZONE
TZID:America/Chicago
BEGIN:DAYLIGHT
TZOFFSETFROM:-0600
TZOFFSETTO:-0500
TZNAME:CDT
DTSTART:20240310T080000
END:DAYLIGHT
BEGIN:STANDARD
TZOFFSETFROM:-0500
TZOFFSETTO:-0600
TZNAME:CST
DTSTART:20241103T070000
END:STANDARD
BEGIN:DAYLIGHT
TZOFFSETFROM:-0600
TZOFFSETTO:-0500
TZNAME:CDT
DTSTART:20250309T080000
END:DAYLIGHT
BEGIN:STANDARD
TZOFFSETFROM:-0500
TZOFFSETTO:-0600
TZNAME:CST
DTSTART:20251102T070000
END:STANDARD
BEGIN:DAYLIGHT
TZOFFSETFROM:-0600
TZOFFSETTO:-0500
TZNAME:CDT
DTSTART:20260308T080000
END:DAYLIGHT
BEGIN:STANDARD
TZOFFSETFROM:-0500
TZOFFSETTO:-0600
TZNAME:CST
DTSTART:20261101T070000
END:STANDARD
END:VTIMEZONE
BEGIN:VEVENT
DTSTART;TZID=America/Chicago:20250906T180000
DTEND;TZID=America/Chicago:20250906T210000
DTSTAMP:20260425T095708
CREATED:20250904T020057Z
LAST-MODIFIED:20250904T020057Z
UID:1364-1757181600-1757192400@swtavernleague.com
SUMMARY:Johnnie Walker - The Back Bar
DESCRIPTION:Come see Johnnie Walker play at The Back Bar and enjoy some of our famous long islands and deep dish Pizzeria Uno pizza!
URL:https://swtavernleague.com/event/johnnie-walker-the-back-bar-2/
LOCATION:The Back Bar\, 155 US-151 BUS\, Platteville\, WI\, 53818\, United States
ATTACH;FMTTYPE=image/png:https://swtavernleague.com/wp-content/uploads/2023/04/Johnnie-Walker.jpg.png
END:VEVENT
BEGIN:VEVENT
DTSTART;TZID=America/Chicago:20250907T120000
DTEND;TZID=America/Chicago:20250907T190000
DTSTAMP:20260425T095708
CREATED:20250904T015655Z
LAST-MODIFIED:20250904T015655Z
UID:1361-1757246400-1757271600@swtavernleague.com
SUMMARY:Monthly Dart Tournament - The Back Bar
DESCRIPTION:This Sunday is our monthly blind draw dart tournament. Sign ups begin at noon and darts fly around 1pm! $15 entry fee and $5 optional trips pot. The games are 01/cricket/choice. We offer $2 Bud Light and Busch Light all day during our tournaments!
URL:https://swtavernleague.com/event/monthly-dart-tournament-the-back-bar/
LOCATION:The Back Bar\, 155 US-151 BUS\, Platteville\, WI\, 53818\, United States
ATTACH;FMTTYPE=image/png:https://swtavernleague.com/wp-content/uploads/2025/09/AnnexDartTournament2025-e1756950848653.png
END:VEVENT
END:VCALENDAR