BEGIN:VCALENDAR
VERSION:2.0
PRODID:-//Grant-Iowa Tavern League - ECPv6.15.20//NONSGML v1.0//EN
CALSCALE:GREGORIAN
METHOD:PUBLISH
X-ORIGINAL-URL:https://swtavernleague.com
X-WR-CALDESC:Events for Grant-Iowa Tavern League
REFRESH-INTERVAL;VALUE=DURATION:PT1H
X-Robots-Tag:noindex
X-PUBLISHED-TTL:PT1H
BEGIN:VTIMEZONE
TZID:America/Chicago
BEGIN:DAYLIGHT
TZOFFSETFROM:-0600
TZOFFSETTO:-0500
TZNAME:CDT
DTSTART:20240310T080000
END:DAYLIGHT
BEGIN:STANDARD
TZOFFSETFROM:-0500
TZOFFSETTO:-0600
TZNAME:CST
DTSTART:20241103T070000
END:STANDARD
BEGIN:DAYLIGHT
TZOFFSETFROM:-0600
TZOFFSETTO:-0500
TZNAME:CDT
DTSTART:20250309T080000
END:DAYLIGHT
BEGIN:STANDARD
TZOFFSETFROM:-0500
TZOFFSETTO:-0600
TZNAME:CST
DTSTART:20251102T070000
END:STANDARD
BEGIN:DAYLIGHT
TZOFFSETFROM:-0600
TZOFFSETTO:-0500
TZNAME:CDT
DTSTART:20260308T080000
END:DAYLIGHT
BEGIN:STANDARD
TZOFFSETFROM:-0500
TZOFFSETTO:-0600
TZNAME:CST
DTSTART:20261101T070000
END:STANDARD
END:VTIMEZONE
BEGIN:VEVENT
DTSTART;TZID=America/Chicago:20250704T103000
DTEND;TZID=America/Chicago:20250704T180000
DTSTAMP:20260419T180626
CREATED:20250616T023716Z
LAST-MODIFIED:20250616T023716Z
UID:1305-1751625000-1751652000@swtavernleague.com
SUMMARY:Golden Sky on the 4th of July - Cassville Riverside Park
DESCRIPTION:We are so excited to announce that we will have the All-Veteran Parachute Jumpers this 4th of July at the Cassville High School Athletic Field.\nParade\, Food\, Kid Activities\, Beer Tent\, Live Music\, Kickball Tournament & more!\nCasey Klein will be rocking the tunes!\n𝘗𝘢𝘳𝘢𝘥𝘦 • 𝘔𝘶𝘴𝘪𝘤 • 𝘍𝘰𝘰𝘥 • 𝘍𝘢𝘮𝘪𝘭𝘺 𝘍𝘶𝘯 • 𝘊𝘰𝘮𝘮𝘶𝘯𝘪𝘵𝘺 𝘗𝘳𝘪𝘥𝘦\n𝗦𝗶𝗴𝗻 𝘂𝗽 𝘁𝗼𝗱𝗮𝘆 𝘁𝗼 𝗯𝗲 𝗶𝗻 𝗼𝘂𝗿 𝟰𝘁𝗵 𝗼𝗳 𝗝𝘂𝗹𝘆 𝗣𝗮𝗿𝗮𝗱𝗲 𝗶𝗻 𝗖𝗮𝘀𝘀𝘃𝗶𝗹𝗹𝗲\, 𝗪𝗜!🇺🇸\n📲 Register now and celebrate Independence Day with us in true Cassville style!\nhttps://forms.gle/hARMKViNqrqWsgB87 \nParade: 10:30 AM\nCassville Athletic Field opens up after the Parade\nFood 12-5\nBeer Tent\nKickball Tournament 11:30 AM\nAll Veterans Jump 12:45 PM\nMusic 2-5
URL:https://swtavernleague.com/event/golden-sky-on-the-4th-of-july-cassville-riverside-park/
LOCATION:Cassville Riverside Park\, 100 E Crawford Street\, Cassville\, WI\, 53806\, United States
ATTACH;FMTTYPE=image/jpeg:https://swtavernleague.com/wp-content/uploads/2025/06/July4-e1750041117167.jpg
END:VEVENT
END:VCALENDAR