BEGIN:VCALENDAR
VERSION:2.0
PRODID:-//Grant-Iowa Tavern League - ECPv6.15.20//NONSGML v1.0//EN
CALSCALE:GREGORIAN
METHOD:PUBLISH
X-WR-CALNAME:Grant-Iowa Tavern League
X-ORIGINAL-URL:https://swtavernleague.com
X-WR-CALDESC:Events for Grant-Iowa Tavern League
REFRESH-INTERVAL;VALUE=DURATION:PT1H
X-Robots-Tag:noindex
X-PUBLISHED-TTL:PT1H
BEGIN:VTIMEZONE
TZID:America/Chicago
BEGIN:DAYLIGHT
TZOFFSETFROM:-0600
TZOFFSETTO:-0500
TZNAME:CDT
DTSTART:20240310T080000
END:DAYLIGHT
BEGIN:STANDARD
TZOFFSETFROM:-0500
TZOFFSETTO:-0600
TZNAME:CST
DTSTART:20241103T070000
END:STANDARD
BEGIN:DAYLIGHT
TZOFFSETFROM:-0600
TZOFFSETTO:-0500
TZNAME:CDT
DTSTART:20250309T080000
END:DAYLIGHT
BEGIN:STANDARD
TZOFFSETFROM:-0500
TZOFFSETTO:-0600
TZNAME:CST
DTSTART:20251102T070000
END:STANDARD
BEGIN:DAYLIGHT
TZOFFSETFROM:-0600
TZOFFSETTO:-0500
TZNAME:CDT
DTSTART:20260308T080000
END:DAYLIGHT
BEGIN:STANDARD
TZOFFSETFROM:-0500
TZOFFSETTO:-0600
TZNAME:CST
DTSTART:20261101T070000
END:STANDARD
END:VTIMEZONE
BEGIN:VEVENT
DTSTART;TZID=America/Chicago:20250702T183000
DTEND;TZID=America/Chicago:20250702T203000
DTSTAMP:20260421T204423
CREATED:20250616T020644Z
LAST-MODIFIED:20250616T020644Z
UID:1296-1751481000-1751488200@swtavernleague.com
SUMMARY:Music in the Park + Market - Volunteer Park
DESCRIPTION:Music in the Park + Mississippi Market\nChase Pebworth will be singing tunes from 6:30 – 8:30 PM\nMusic sponsored by Son Chasers Social Club! \nFood will be provided by Son Chasers Social Club\, and all proceeds will go to the Humane Society. \nVolunteer Park • Cassville WI
URL:https://swtavernleague.com/event/music-in-the-park-market-volunteer-park-3/
LOCATION:Cassville Volunteer Park\, 304 Denniston St\, Cassville\, WI\, 53806\, United States
ATTACH;FMTTYPE=image/jpeg:https://swtavernleague.com/wp-content/uploads/2025/06/July2-e1750039330876.jpg
END:VEVENT
BEGIN:VEVENT
DTSTART;TZID=America/Chicago:20250712T120000
DTEND;TZID=America/Chicago:20250712T180000
DTSTAMP:20260421T204423
CREATED:20250707T023656Z
LAST-MODIFIED:20250707T023656Z
UID:1321-1752321600-1752343200@swtavernleague.com
SUMMARY:Customer Appreciation Party - Thee Farmers Daughter
DESCRIPTION:Appreciation for all our customer supporters throughout our first year. Party on the Back Patio to include live music by Abbey Lane and Driftless Donkey Entertainment July 12th from Noon until 6 pm to include complimentary snack bar and freshly smoked appetizers.
URL:https://swtavernleague.com/event/customer-appreciation-party-thee-farmers-daughter/
LOCATION:Thee Farmers Daughter\, 209 Exchange St\, Blue River\, WI\, 53518\, United States
ATTACH;FMTTYPE=image/jpeg:https://swtavernleague.com/wp-content/uploads/2025/07/TheeFarmersDaughter-e1751855703192.jpg
END:VEVENT
END:VCALENDAR